BEGIN:VCALENDAR
VERSION:2.0
PRODID:-//ChamberMaster//Event Calendar 2.0//EN
METHOD:PUBLISH
X-PUBLISHED-TTL:P3D
REFRESH-INTERVAL:P3D
CALSCALE:GREGORIAN
BEGIN:VEVENT
DTSTART:20260507T010000Z
DTEND:20260507T020000Z
X-MICROSOFT-CDO-ALLDAYEVENT:FALSE
SUMMARY:Test Recurring event photo issue
DESCRIPTION:keshav varshney
X-ALT-DESC;FMTTYPE=text/html:keshav varshney
LOCATION:keshav varshney
UID:e.2309.6308
SEQUENCE:3
DTSTAMP:20260424T011722Z
URL:https://scottp.sampleorg.com/events/details/test-recurring-event-photo-issue-05-06-2026-6308
END:VEVENT

END:VCALENDAR
