BEGIN:VCALENDAR
VERSION:2.0
PRODID:-//ChamberMaster//Event Calendar 2.0//EN
METHOD:PUBLISH
X-PUBLISHED-TTL:P3D
REFRESH-INTERVAL:P3D
CALSCALE:GREGORIAN
BEGIN:VEVENT
DTSTART:20230204T210000Z
DTEND:20230204T220000Z
X-MICROSOFT-CDO-ALLDAYEVENT:FALSE
SUMMARY:zoom event 1
DESCRIPTION:
X-ALT-DESC;FMTTYPE=text/html:
LOCATION:
UID:e.2309.6095
SEQUENCE:3
DTSTAMP:20260419T130637Z
URL:https://scottp.sampleorg.com/events/details/zoom-event-1-6095
END:VEVENT

END:VCALENDAR
